BEGIN:VCALENDAR
VERSION:2.0
PRODID:-//ChamberMaster//Event Calendar 2.0//EN
METHOD:PUBLISH
X-PUBLISHED-TTL:P3D
REFRESH-INTERVAL:P3D
CALSCALE:GREGORIAN
BEGIN:VEVENT
DTSTART:20140617T150000Z
DTEND:20140617T160000Z
X-MICROSOFT-CDO-ALLDAYEVENT:FALSE
SUMMARY:LRGVDC Groundbreaking Ceremony
DESCRIPTION:LRGVDC Groundbreaking Ceremony
X-ALT-DESC;FMTTYPE=text/html:LRGVDC Groundbreaking Ceremony
LOCATION:301 W. Railroad (westside)
UID:e.1244.5923
SEQUENCE:3
DTSTAMP:20260424T122219Z
URL:https://business.weslaco.com/events/details/lrgvdc-groundbreaking-ceremony-06-17-2014-5923
END:VEVENT

END:VCALENDAR
