BEGIN:VCALENDAR
VERSION:2.0
PRODID:-//ChamberMaster//Event Calendar 2.0//EN
METHOD:PUBLISH
X-PUBLISHED-TTL:P3D
REFRESH-INTERVAL:P3D
CALSCALE:GREGORIAN
BEGIN:VEVENT
DTSTART:20150214T160000Z
DTEND:20150214T170000Z
X-MICROSOFT-CDO-ALLDAYEVENT:FALSE
SUMMARY:Luciano Guerra presents Birding & Butterflies Texas style
DESCRIPTION:Birding and Butterflies Texas style by Luciano Guerra.  Luciano will present a unique presentation about South Texas wildlife through his award-winning photographs. Join us and bring a friend enjoy a morning in nature. Coffee and pastries will be served. Valley Nature Center's trails are wheelchair and scooter friendly. Bring your camera\, Bring a friend\, Make a memory. See you there. Like us on FaceBook to keep up on the VNC news!
X-ALT-DESC;FMTTYPE=text/html:Birding and Butterflies Texas style by&nbsp\;Luciano Guerra. &nbsp\;Luciano will present a unique presentation about South Texas wildlife through his award-winning photographs. Join us and bring a friend enjoy a morning in nature. Coffee and pastries will be served. Valley Nature Center&#39\;s trails are wheelchair and scooter friendly. Bring your camera\, Bring a friend\, Make a memory. See you there. Like us on FaceBook to keep up on the VNC news!
LOCATION:Valley Nature Center 301 S. Border Avenue
UID:e.1244.6036
SEQUENCE:3
DTSTAMP:20260423T224956Z
URL:https://business.weslaco.com/events/details/luciano-guerra-presents-birding-butterflies-texas-style-02-14-2015-6036
END:VEVENT

END:VCALENDAR
