BEGIN:VCALENDAR
VERSION:2.0
PRODID:-//ChamberMaster//Event Calendar 2.0//EN
METHOD:PUBLISH
X-PUBLISHED-TTL:P3D
REFRESH-INTERVAL:P3D
CALSCALE:GREGORIAN
BEGIN:VEVENT
DTSTART:20200305T180000Z
DTEND:20200305T190000Z
X-MICROSOFT-CDO-ALLDAYEVENT:FALSE
SUMMARY:Lunch and Learn Seminar sponsored by DHR
DESCRIPTION:
X-ALT-DESC;FMTTYPE=text/html:
LOCATION:Business Visitor and Event Center 275 S. Kansas Weslaco\, TX
UID:e.1244.19304
SEQUENCE:3
DTSTAMP:20260419T183440Z
URL:https://business.weslaco.com/events/details/lunch-and-learn-seminar-sponsored-by-dhr-19304
END:VEVENT

END:VCALENDAR
