BEGIN:VCALENDAR
VERSION:2.0
PRODID:-//ChamberMaster//Event Calendar 2.0//EN
METHOD:PUBLISH
X-PUBLISHED-TTL:P3D
REFRESH-INTERVAL:P3D
CALSCALE:GREGORIAN
BEGIN:VEVENT
DTSTART:20191024T170000Z
DTEND:20191024T180000Z
X-MICROSOFT-CDO-ALLDAYEVENT:FALSE
SUMMARY:Lunch and Learn Seminar sponsored by STHS ER Weslaco
DESCRIPTION:"Stroke Awareness" presented by Dr. Alexandros Georgiadis. Sponsored by South Texas Health System ER Weslaco.
X-ALT-DESC;FMTTYPE=text/html:&quot\;Stroke Awareness&quot\; presented by Dr. Alexandros Georgiadis. Sponsored by South Texas Health System ER Weslaco.
LOCATION:Business Visitor and Event Center 275 S. Kansas Weslaco\, TX
UID:e.1244.18779
SEQUENCE:3
DTSTAMP:20260420T025648Z
URL:https://business.weslaco.com/events/details/lunch-and-learn-seminar-sponsored-by-sths-er-weslaco-18779
END:VEVENT

END:VCALENDAR
