BEGIN:VCALENDAR
VERSION:2.0
PRODID:-//ChamberMaster//Event Calendar 2.0//EN
METHOD:PUBLISH
X-PUBLISHED-TTL:P3D
REFRESH-INTERVAL:P3D
CALSCALE:GREGORIAN
BEGIN:VEVENT
DTSTART:20200123T180000Z
DTEND:20200123T190000Z
X-MICROSOFT-CDO-ALLDAYEVENT:FALSE
SUMMARY:Lunch and Learn Seminar sponsored by STHS ER Weslaco
DESCRIPTION:"Fighting the Flu and the Importance of Annual Wellness Exams" presented by Jose Gonzalez\, FNP. Sponsored by South Texas Health System ER Weslaco. Lunch will be provided.
X-ALT-DESC;FMTTYPE=text/html:&quot\;Fighting the Flu and the Importance of Annual Wellness Exams&quot\; presented by Jose Gonzalez\, FNP. Sponsored by South Texas Health System ER Weslaco. Lunch will be provided.
LOCATION:Business Visitor and Event Center 275 S. Kansas Weslaco\, TX
UID:e.1244.19296
SEQUENCE:3
DTSTAMP:20260419T220159Z
URL:https://business.weslaco.com/events/details/lunch-and-learn-seminar-sponsored-by-sths-er-weslaco-19296
END:VEVENT

END:VCALENDAR
