BEGIN:VCALENDAR
VERSION:2.0
PRODID:-//ChamberMaster//Event Calendar 2.0//EN
METHOD:PUBLISH
X-PUBLISHED-TTL:P3D
REFRESH-INTERVAL:P3D
CALSCALE:GREGORIAN
BEGIN:VEVENT
DTSTART:20200307T170000Z
DTEND:20200307T190000Z
X-MICROSOFT-CDO-ALLDAYEVENT:FALSE
SUMMARY:March Madness Family Fun Day at Frost Bank
DESCRIPTION:On the Frost Bank Grand Opening weekend\, enjoy a family fun day!
X-ALT-DESC;FMTTYPE=text/html:On the Frost Bank Grand Opening weekend\, enjoy a family fun day!
LOCATION:1010 N. Westgate Dr. Weslaco
UID:e.1244.19336
SEQUENCE:3
DTSTAMP:20260419T185027Z
URL:https://business.weslaco.com/events/details/march-madness-family-fun-day-at-frost-bank-19336
END:VEVENT

END:VCALENDAR
