BEGIN:VCALENDAR
VERSION:2.0
PRODID:-//ChamberMaster//Event Calendar 2.0//EN
METHOD:PUBLISH
X-PUBLISHED-TTL:P3D
REFRESH-INTERVAL:P3D
CALSCALE:GREGORIAN
BEGIN:VEVENT
DTSTART:20151223T010000Z
DTEND:20151223T020000Z
X-MICROSOFT-CDO-ALLDAYEVENT:FALSE
SUMMARY:Mariachi Christmas Concert
DESCRIPTION:Mariachi Christmas Concert program is free and open to the public.  Light refreshments will be served in the meeting room.
X-ALT-DESC;FMTTYPE=text/html:Mariachi Christmas Concert program is free and open to the public. &nbsp\;Light refreshments will be served in the meeting room.&nbsp\;
LOCATION:Braught Memorial Theater 525 S. Kansas Ave. Weslaco\, TX 78596
UID:e.1244.9082
SEQUENCE:3
DTSTAMP:20260423T070943Z
URL:https://business.weslaco.com/events/details/mariachi-christmas-concert-12-22-2015-9082
END:VEVENT

END:VCALENDAR
