BEGIN:VCALENDAR
VERSION:2.0
PRODID:-//ChamberMaster//Event Calendar 2.0//EN
METHOD:PUBLISH
X-PUBLISHED-TTL:P3D
REFRESH-INTERVAL:P3D
CALSCALE:GREGORIAN
BEGIN:VEVENT
DTSTART:20190407T000000Z
DTEND:20190407T010000Z
X-MICROSOFT-CDO-ALLDAYEVENT:FALSE
SUMMARY:Mariachi Mariposas at Weslaco ISD Performing Arts Center
DESCRIPTION:2018 Houston Stock Show & Rodeo Mariachi Festival Winners Mariachi Mariposas life at the Weslaco ISD Performing Arts Center. Opening acts WHS Mariachi Pantera & WEHS Mariachi Tecuani.\n\n\n\nAll proceeds will go to the WISD Fine Arts Scholarship Foundation.
X-ALT-DESC;FMTTYPE=text/html:2018 Houston Stock Show &amp\; Rodeo Mariachi Festival Winners Mariachi Mariposas life at the Weslaco ISD Performing Arts Center. Opening acts WHS Mariachi Pantera &amp\; WEHS Mariachi Tecuani.<br />\n<br />\nAll proceeds will go to the WISD Fine Arts Scholarship Foundation.
LOCATION:Performing Arts Center 471 E. 6th St\, Weslaco
UID:e.1244.18050
SEQUENCE:3
DTSTAMP:20260420T130844Z
URL:https://business.weslaco.com/events/details/mariachi-mariposas-at-weslaco-isd-performing-arts-center-18050
END:VEVENT

END:VCALENDAR
