BEGIN:VCALENDAR
VERSION:2.0
PRODID:-//ChamberMaster//Event Calendar 2.0//EN
METHOD:PUBLISH
X-PUBLISHED-TTL:P3D
REFRESH-INTERVAL:P3D
CALSCALE:GREGORIAN
BEGIN:VEVENT
DTSTART:20190621T150000Z
DTEND:20190621T160000Z
X-MICROSOFT-CDO-ALLDAYEVENT:FALSE
SUMMARY:Mariner Finance Ribbon Cutting
DESCRIPTION:
X-ALT-DESC;FMTTYPE=text/html:
LOCATION:Mariner Finance 1600 N. Westgate Dr\, Ste. 700 Weslaco
UID:e.1244.18190
SEQUENCE:3
DTSTAMP:20260420T094125Z
URL:https://business.weslaco.com/events/details/mariner-finance-ribbon-cutting-18190
END:VEVENT

END:VCALENDAR
