BEGIN:VCALENDAR
VERSION:2.0
PRODID:-//ChamberMaster//Event Calendar 2.0//EN
METHOD:PUBLISH
X-PUBLISHED-TTL:P3D
REFRESH-INTERVAL:P3D
CALSCALE:GREGORIAN
BEGIN:VEVENT
DTSTART:20160429T210000Z
DTEND:20160429T230000Z
X-MICROSOFT-CDO-ALLDAYEVENT:FALSE
SUMMARY:Martinez Furniture and Appliance Ribbon Cutting and Grand Opening
DESCRIPTION:
X-ALT-DESC;FMTTYPE=text/html:
LOCATION:1303 Annie Dr. Weslaco\, TX
UID:e.1244.10949
SEQUENCE:3
DTSTAMP:20260423T010112Z
URL:https://business.weslaco.com/events/details/martinez-furniture-and-appliance-ribbon-cutting-and-grand-opening-04-29-2016-10949
END:VEVENT

END:VCALENDAR
