BEGIN:VCALENDAR
VERSION:2.0
PRODID:-//ChamberMaster//Event Calendar 2.0//EN
METHOD:PUBLISH
X-PUBLISHED-TTL:P3D
REFRESH-INTERVAL:P3D
CALSCALE:GREGORIAN
BEGIN:VEVENT
DTSTART:20190826T140000Z
DTEND:20190826T230000Z
X-MICROSOFT-CDO-ALLDAYEVENT:FALSE
SUMMARY:Masquerade $5 Jewelry & Accessories Sale for Weslaco Museum
DESCRIPTION:Find a wide variety of jewelry and accessories....all for $5! Proceeds to benefit the Weslaco Museum. Cash and debit/credit cards accepted.
X-ALT-DESC;FMTTYPE=text/html:Find a wide variety of jewelry and accessories....all for $5! Proceeds to benefit the Weslaco Museum. Cash and debit/credit cards accepted.
LOCATION:Weslaco Museum lobby 500 S. Texas Blvd.
UID:e.1244.18739
SEQUENCE:3
DTSTAMP:20260420T080931Z
URL:https://business.weslaco.com/events/details/masquerade-5-jewelry-accessories-sale-for-weslaco-museum-18739
END:VEVENT

END:VCALENDAR
