BEGIN:VCALENDAR
VERSION:2.0
PRODID:-//ChamberMaster//Event Calendar 2.0//EN
METHOD:PUBLISH
X-PUBLISHED-TTL:P3D
REFRESH-INTERVAL:P3D
CALSCALE:GREGORIAN
BEGIN:VEVENT
DTSTART:20150822T140000Z
DTEND:20150822T200000Z
X-MICROSOFT-CDO-ALLDAYEVENT:FALSE
SUMMARY:Masquerade $5 Jewelry Sale
DESCRIPTION:Masquerade $5 Jewelry Sale to benefit the Knapp Medical Center Auxiliary.
X-ALT-DESC;FMTTYPE=text/html:Masquerade $5 Jewelry Sale to benefit the Knapp Medical Center Auxiliary.
LOCATION:Knapp Medical Conference Center 1401 E. 8th
UID:e.1244.6731
SEQUENCE:3
DTSTAMP:20260423T145939Z
URL:https://business.weslaco.com/events/details/masquerade-5-jewelry-sale-08-22-2015-6731
END:VEVENT

END:VCALENDAR
