BEGIN:VCALENDAR
VERSION:2.0
PRODID:-//ChamberMaster//Event Calendar 2.0//EN
METHOD:PUBLISH
X-PUBLISHED-TTL:P3D
REFRESH-INTERVAL:P3D
CALSCALE:GREGORIAN
BEGIN:VEVENT
DTSTART:20170126T130000Z
DTEND:20170127T010000Z
X-MICROSOFT-CDO-ALLDAYEVENT:FALSE
SUMMARY:Masquerade $5 Jewelry Sale at Knapp Medical Center
DESCRIPTION:Masquerade $5 Jewelry Sale to benefit the Knapp Medical Center Auxiliary.
X-ALT-DESC;FMTTYPE=text/html:Masquerade $5 Jewelry Sale to benefit the Knapp Medical Center Auxiliary.
LOCATION:Knapp Medical Conference Center 1401 E. 8th
UID:e.1244.11519
SEQUENCE:3
DTSTAMP:20260422T120045Z
URL:https://business.weslaco.com/events/details/masquerade-5-jewelry-sale-at-knapp-medical-center-11519
END:VEVENT

END:VCALENDAR
