BEGIN:VCALENDAR
VERSION:2.0
PRODID:-//ChamberMaster//Event Calendar 2.0//EN
METHOD:PUBLISH
X-PUBLISHED-TTL:P3D
REFRESH-INTERVAL:P3D
CALSCALE:GREGORIAN
BEGIN:VEVENT
DTSTART:20131008T233000Z
DTEND:20131009T020000Z
X-MICROSOFT-CDO-ALLDAYEVENT:FALSE
SUMMARY:Mayor and City Commission Candidates' Forum
DESCRIPTION:Candidates for Wesalco Mayor and City Commission candidates Places 5 & 6 will be on hand answering questions and discussing issues. The bond for South Texas College will also be discussed.
X-ALT-DESC;FMTTYPE=text/html:Candidates for Wesalco Mayor and City Commission candidates Places 5 &amp\; 6 will be on hand answering questions and discussing issues. The bond for South Texas College will also be discussed.
LOCATION:Business Visitor & Event Center 275 S. Kansas
UID:e.1244.4765
SEQUENCE:3
DTSTAMP:20260425T023445Z
URL:https://business.weslaco.com/events/details/mayor-and-city-commission-candidates-forum-10-08-2013-4765
END:VEVENT

END:VCALENDAR
