BEGIN:VCALENDAR
VERSION:2.0
PRODID:-//ChamberMaster//Event Calendar 2.0//EN
METHOD:PUBLISH
X-PUBLISHED-TTL:P3D
REFRESH-INTERVAL:P3D
CALSCALE:GREGORIAN
BEGIN:VEVENT
DTSTART:20190124T233000Z
DTEND:20190125T003000Z
X-MICROSOFT-CDO-ALLDAYEVENT:FALSE
SUMMARY:Mayor Joe V. Sanchez Library 3D Designer Club
DESCRIPTION:Mayor Joe V. Sanchez Public Library's 3D Designer's Club
X-ALT-DESC;FMTTYPE=text/html:<span aria-live="polite" class="fbPhotosPhotoCaption" data-ft="{&quot\;tn&quot\;:&quot\;K&quot\;}" id="fbPhotoSnowliftCaption" tabindex="0"><span class="hasCaption">Mayor Joe V. Sanchez Public Library&#39\;s 3D Designer&#39\;s Club </span></span>
LOCATION:525 S. Kansas
UID:e.1244.17079
SEQUENCE:3
DTSTAMP:20260420T175528Z
URL:https://business.weslaco.com/events/details/mayor-joe-v-sanchez-library-3d-designer-club-17079
END:VEVENT

END:VCALENDAR
