BEGIN:VCALENDAR
VERSION:2.0
PRODID:-//ChamberMaster//Event Calendar 2.0//EN
METHOD:PUBLISH
X-PUBLISHED-TTL:P3D
REFRESH-INTERVAL:P3D
CALSCALE:GREGORIAN
BEGIN:VEVENT
DTSTART:20181027T190000Z
DTEND:20181027T210000Z
X-MICROSOFT-CDO-ALLDAYEVENT:FALSE
SUMMARY:Mayor Joe V. Sanchez Library and Weslaco PD present Monster Mash
DESCRIPTION:Light refreshments\, mini contests\, arts & crafts
X-ALT-DESC;FMTTYPE=text/html:Light refreshments\, mini contests\, arts &amp\; crafts
LOCATION:Mayor Joe V. Sanchez Public Library 525 S. Kansas Ave. Weslaco\, TX 78596
UID:e.1244.16989
SEQUENCE:3
DTSTAMP:20260420T231506Z
URL:https://business.weslaco.com/events/details/mayor-joe-v-sanchez-library-and-weslaco-pd-present-monster-mash-16989
END:VEVENT

END:VCALENDAR
