BEGIN:VCALENDAR
VERSION:2.0
PRODID:-//ChamberMaster//Event Calendar 2.0//EN
METHOD:PUBLISH
X-PUBLISHED-TTL:P3D
REFRESH-INTERVAL:P3D
CALSCALE:GREGORIAN
BEGIN:VEVENT
DTSTART:20191026T190000Z
DTEND:20191026T210000Z
X-MICROSOFT-CDO-ALLDAYEVENT:FALSE
SUMMARY:Mayor Joe V. Sanchez Library Hocus Pocus Fiesta
DESCRIPTION:Movie time: Hocus Pocus\n\nFun activities\, free books\, light refreshments\, and special guest Smile Magic Family Dental. Wear your best Halloween costume!
X-ALT-DESC;FMTTYPE=text/html:Movie time: Hocus Pocus<br />\nFun activities\, free books\, light refreshments\, and special guest Smile Magic Family Dental. Wear your best Halloween costume!
LOCATION:Mayor Joe V. Sanchez Public Library 525 S. Kansas Ave. Weslaco
UID:e.1244.18782
SEQUENCE:3
DTSTAMP:20260420T025712Z
URL:https://business.weslaco.com/events/details/mayor-joe-v-sanchez-library-hocus-pocus-fiesta-18782
END:VEVENT

END:VCALENDAR
