BEGIN:VCALENDAR
VERSION:2.0
PRODID:-//ChamberMaster//Event Calendar 2.0//EN
METHOD:PUBLISH
X-PUBLISHED-TTL:P3D
REFRESH-INTERVAL:P3D
CALSCALE:GREGORIAN
BEGIN:VEVENT
DTSTART:20141223T010000Z
DTEND:20141223T030000Z
X-MICROSOFT-CDO-ALLDAYEVENT:FALSE
SUMMARY:Mayor Joe V. Sanchez Library presents Navidad con el Mariachi Mundial
DESCRIPTION:Event is free and open to the public. Donations to the Holiday Canned Food Drive will be greatly appreciated!
X-ALT-DESC;FMTTYPE=text/html:Event is free and open to the public. Donations to the Holiday Canned Food Drive will be greatly appreciated!
LOCATION:Braught Memorial Theater 525 S. Kansas Ave.
UID:e.1244.6013
SEQUENCE:3
DTSTAMP:20260424T021212Z
URL:https://business.weslaco.com/events/details/mayor-joe-v-sanchez-library-presents-navidad-con-el-mariachi-mundial-12-22-2014-6013
END:VEVENT

END:VCALENDAR
