BEGIN:VCALENDAR
VERSION:2.0
PRODID:-//ChamberMaster//Event Calendar 2.0//EN
METHOD:PUBLISH
X-PUBLISHED-TTL:P3D
REFRESH-INTERVAL:P3D
CALSCALE:GREGORIAN
BEGIN:VEVENT
DTSTART:20181221T010000Z
DTEND:20181221T030000Z
X-MICROSOFT-CDO-ALLDAYEVENT:FALSE
SUMMARY:Mayor Joe V. Sanchez Library presents Navidad con el Mariachi Mundial
DESCRIPTION:Event is free and open to the public.Stay for sweets and hot chocolate afterwards!
X-ALT-DESC;FMTTYPE=text/html:Event is free and open to the public.Stay for sweets and hot chocolate afterwards!
LOCATION:Braught Memorial Theater 525 S. Kansas Ave.
UID:e.1244.17034
SEQUENCE:3
DTSTAMP:20260420T194950Z
URL:https://business.weslaco.com/events/details/mayor-joe-v-sanchez-library-presents-navidad-con-el-mariachi-mundial-17034
END:VEVENT

END:VCALENDAR
