BEGIN:VCALENDAR
VERSION:2.0
PRODID:-//ChamberMaster//Event Calendar 2.0//EN
METHOD:PUBLISH
X-PUBLISHED-TTL:P3D
REFRESH-INTERVAL:P3D
CALSCALE:GREGORIAN
BEGIN:VEVENT
DTSTART:20171028T190000Z
DTEND:20171028T210000Z
X-MICROSOFT-CDO-ALLDAYEVENT:FALSE
SUMMARY:Mayor Joe V. Sanchez Library Spooktacular Event
DESCRIPTION:Costume contest\, fun activities and free food!
X-ALT-DESC;FMTTYPE=text/html:Costume contest\, fun activities and free food!
LOCATION:525 S. Kansas Ave. Weslaco\, TX
UID:e.1244.14425
SEQUENCE:3
DTSTAMP:20260421T185913Z
URL:https://business.weslaco.com/events/details/mayor-joe-v-sanchez-library-spooktacular-event-14425
END:VEVENT

END:VCALENDAR
