BEGIN:VCALENDAR
VERSION:2.0
PRODID:-//ChamberMaster//Event Calendar 2.0//EN
METHOD:PUBLISH
X-PUBLISHED-TTL:P3D
REFRESH-INTERVAL:P3D
CALSCALE:GREGORIAN
BEGIN:VEVENT
DTSTART:20181020T190000Z
DTEND:20181020T210000Z
X-MICROSOFT-CDO-ALLDAYEVENT:FALSE
SUMMARY:Mayor Joe V. Sanchez newly release book Odyssey to El Wes
DESCRIPTION:Mayor Joe V. Sanchez newly release book Odyssey to El Wes will be presented by the author on Saturday\, September 20 at 2:00PM in the Braught Memorial Theater. Come join us for an interesting presentation on a band of migrant workers who are part of our history in El Wes. Light refreshments will be served after the program and books will be available for purchase and signing. Please call the library for more information at (956) 968-4533.
X-ALT-DESC;FMTTYPE=text/html:Mayor Joe V. Sanchez newly release book <em>Odyssey to El Wes</em> will be presented by the author on Saturday\, September 20 at 2:00PM in the Braught Memorial Theater. Come join us for an interesting presentation on a band of migrant workers who are part of our history in El Wes. Light refreshments will be served after the program and books will be available for purchase and signing. Please call the library for more information at (956) 968-4533.
LOCATION:Mayor Eugene A. Braught Memorial Theater 525 S. Kansas Ave. Weslaco\, TX 78596
UID:e.1244.16993
SEQUENCE:3
DTSTAMP:20260420T232425Z
URL:https://business.weslaco.com/events/details/mayor-joe-v-sanchez-newly-release-book-odyssey-to-el-wes-16993
END:VEVENT

END:VCALENDAR
