BEGIN:VCALENDAR
VERSION:2.0
PRODID:-//ChamberMaster//Event Calendar 2.0//EN
METHOD:PUBLISH
X-PUBLISHED-TTL:P3D
REFRESH-INTERVAL:P3D
CALSCALE:GREGORIAN
BEGIN:VEVENT
DTSTART:20180602T180000Z
DTEND:20180602T210000Z
X-MICROSOFT-CDO-ALLDAYEVENT:FALSE
SUMMARY:Mayor Joe V. Sanchez Public Library 2018 Summer Reading Kick Off
DESCRIPTION:Parents\, please join us for this year's Summer Reading Program: Libraries Rock! Kick-off! There will be entertainment by "Be Still\, Little Tree\, Be Still" author\, Shawn Elliot Russell\, local authors\, light refreshments\, and so much more! Don't forget to stop by and pick up your packets!
X-ALT-DESC;FMTTYPE=text/html:<span>Parents\, please join us for this year&#39\;s Summer Reading Program: Libraries Rock! Kick-off! There will be entertainment by &quot\;Be Still\, Little Tree\, Be Still&quot\; author\, Shawn Elliot Russell\, local authors\, light refreshments\, and so much more! Don&#39\;t forget to stop by and pick up your packets!</span>
LOCATION:Mayor Joe V. Sanchez Public Library 525 S. Kansas
UID:e.1244.16896
SEQUENCE:3
DTSTAMP:20260421T055920Z
URL:https://business.weslaco.com/events/details/mayor-joe-v-sanchez-public-library-2018-summer-reading-kick-off-16896
END:VEVENT

END:VCALENDAR
