BEGIN:VCALENDAR
VERSION:2.0
PRODID:-//ChamberMaster//Event Calendar 2.0//EN
METHOD:PUBLISH
X-PUBLISHED-TTL:P3D
REFRESH-INTERVAL:P3D
CALSCALE:GREGORIAN
BEGIN:VEVENT
DTSTART:20160213T200000Z
DTEND:20160213T210000Z
X-MICROSOFT-CDO-ALLDAYEVENT:FALSE
SUMMARY:Mayor Joe V. Sanchez Public Library Special Presentation
DESCRIPTION:"Across the Tracks North: The Spanish Speakers" presented by Joe V. Sanchez\, Mayor\,Author and Historian.  Stay after the program for light refreshments.
X-ALT-DESC;FMTTYPE=text/html:&quot\;Across the Tracks North: The Spanish Speakers&quot\; presented by Joe V. Sanchez\, Mayor\,Author and Historian. &nbsp\;Stay after the program for light refreshments.&nbsp\;
LOCATION:525 S. Kansas Weslaco\, TX
UID:e.1244.9117
SEQUENCE:3
DTSTAMP:20260423T040230Z
URL:https://business.weslaco.com/events/details/mayor-joe-v-sanchez-public-library-special-presentation-02-13-2016-9117
END:VEVENT

END:VCALENDAR
