BEGIN:VCALENDAR
VERSION:2.0
PRODID:-//ChamberMaster//Event Calendar 2.0//EN
METHOD:PUBLISH
X-PUBLISHED-TTL:P3D
REFRESH-INTERVAL:P3D
CALSCALE:GREGORIAN
BEGIN:VEVENT
DTSTART:20150221T200000Z
DTEND:20150221T220000Z
X-MICROSOFT-CDO-ALLDAYEVENT:FALSE
SUMMARY:Mayor Joe V. Sanchez Public Library Special Presentation
DESCRIPTION:"Across the Tracks" presented by Joe. V. Sanchez\, Mayor\, author and historian.
X-ALT-DESC;FMTTYPE=text/html:&quot\;Across the Tracks&quot\; presented by Joe. V. Sanchez\, Mayor\, author and historian.
LOCATION:Mayor Joe V. Sanchez Public Library
UID:e.1244.6048
SEQUENCE:3
DTSTAMP:20260424T002417Z
URL:https://business.weslaco.com/events/details/mayor-joe-v-sanchez-public-library-special-presentation-02-21-2015-6048
END:VEVENT

END:VCALENDAR
