BEGIN:VCALENDAR
VERSION:2.0
PRODID:-//ChamberMaster//Event Calendar 2.0//EN
METHOD:PUBLISH
X-PUBLISHED-TTL:P3D
REFRESH-INTERVAL:P3D
CALSCALE:GREGORIAN
BEGIN:VEVENT
DTSTART;VALUE=DATE:20190520
DTEND;VALUE=DATE:20190521
TRANSP:TRANSPARENT
X-MICROSOFT-CDO-ALLDAYEVENT:TRUE
SUMMARY:Mayor Joe V. Sanchez Summer Reading Program Registration
DESCRIPTION:The Summer Reading Program for 2019 is\, "A Universe of Stories".\n\nPlease login in our website www.weslacopl.us to join us at The Mayor Joe V. Sanchez Public Library for your free ticket to a summer full or reading with lots of fun and activities.\n\nIf you complete the program you could be eligible to win fantastic prizes\, awards\, and trophies!\n\nJoin us this Summer for Free and Fun!
X-ALT-DESC;FMTTYPE=text/html:<p style="box-sizing: border-box\; margin: 1.5rem 0px\; font-family: &quot\;Gotham SSm A&quot\;\, &quot\;Gotham SSm B&quot\;\, &quot\;Helvetica Neue&quot\;\, Helvetica\, Helvetica\, Arial\, sans-serif\; color: rgb(6\, 5\, 37)\; font-size: 16px\; line-height: 1.5em\;">The Summer Reading Program for 2019 is\, &quot\;A Universe of Stories&quot\;.</p>\n\n<p style="box-sizing: border-box\; margin: 1.5rem 0px\; font-family: &quot\;Gotham SSm A&quot\;\, &quot\;Gotham SSm B&quot\;\, &quot\;Helvetica Neue&quot\;\, Helvetica\, Helvetica\, Arial\, sans-serif\; color: rgb(6\, 5\, 37)\; font-size: 16px\; line-height: 1.5em\;">Please login in our website&nbsp\;<a href="http://www.weslacopl.us/" rel="nofollow" style="box-sizing: border-box\; background-color: transparent\; line-height: 1.5rem\; font-weight: 700\; color: inherit\; text-decoration-line: none\; letter-spacing: 0.04em\; transition: all 300ms ease-out 0s\;">www.weslacopl.us</a>&nbsp\;to join us at The Mayor Joe V. Sanchez Public Library for your free ticket to a summer full or reading with lots of fun and activities.</p>\n\n<p style="box-sizing: border-box\; margin: 1.5rem 0px\; font-family: &quot\;Gotham SSm A&quot\;\, &quot\;Gotham SSm B&quot\;\, &quot\;Helvetica Neue&quot\;\, Helvetica\, Helvetica\, Arial\, sans-serif\; color: rgb(6\, 5\, 37)\; font-size: 16px\; line-height: 1.5em\;">If you complete the program you could be eligible to win fantastic prizes\, awards\, and trophies!</p>\n\n<p style="box-sizing: border-box\; margin: 1.5rem 0px\; font-family: &quot\;Gotham SSm A&quot\;\, &quot\;Gotham SSm B&quot\;\, &quot\;Helvetica Neue&quot\;\, Helvetica\, Helvetica\, Arial\, sans-serif\; color: rgb(6\, 5\, 37)\; font-size: 16px\; line-height: 1.5em\;">Join us this Summer for Free and Fun!</p>\n
LOCATION:
UID:e.1244.18139
SEQUENCE:3
DTSTAMP:20260420T111052Z
URL:https://business.weslaco.com/events/details/mayor-joe-v-sanchez-summer-reading-program-registration-18139
END:VEVENT

END:VCALENDAR
