BEGIN:VCALENDAR
VERSION:2.0
PRODID:-//ChamberMaster//Event Calendar 2.0//EN
METHOD:PUBLISH
X-PUBLISHED-TTL:P3D
REFRESH-INTERVAL:P3D
CALSCALE:GREGORIAN
BEGIN:VEVENT
DTSTART:20160521T150000Z
DTEND:20160521T190000Z
X-MICROSOFT-CDO-ALLDAYEVENT:FALSE
SUMMARY:McAllen Careers Institute Armed Forces Day Celebration
DESCRIPTION:Food\, games\, job opportunities\, great deals\, information\, raffles\, activities and MORE! Fun for the whole family at this FREE event
X-ALT-DESC;FMTTYPE=text/html:Food\, games\, job opportunities\, great deals\, information\, raffles\, activities and MORE! Fun for the whole family at this FREE event
LOCATION:304 S. Col. Rowe Blvd. McAllen\, TX 78501
UID:e.1244.10958
SEQUENCE:3
DTSTAMP:20260423T005815Z
URL:https://business.weslaco.com/events/details/mcallen-careers-institute-armed-forces-day-celebration-05-21-2016-10958
END:VEVENT

END:VCALENDAR
