BEGIN:VCALENDAR
VERSION:2.0
PRODID:-//ChamberMaster//Event Calendar 2.0//EN
METHOD:PUBLISH
X-PUBLISHED-TTL:P3D
REFRESH-INTERVAL:P3D
CALSCALE:GREGORIAN
BEGIN:VEVENT
DTSTART:20181207T000000Z
DTEND:20181207T010000Z
X-MICROSOFT-CDO-ALLDAYEVENT:FALSE
SUMMARY:McCaleb Funeral Home Grief Support Group
DESCRIPTION:
X-ALT-DESC;FMTTYPE=text/html:
LOCATION:McCaleb Funeral Home 900 W. 4th Street Weslaco\, TX
UID:e.1244.11999
SEQUENCE:3
DTSTAMP:20260420T194414Z
URL:https://business.weslaco.com/events/details/mccaleb-funeral-home-grief-support-group-12-06-2018-11999
END:VEVENT

END:VCALENDAR
