BEGIN:VCALENDAR
VERSION:2.0
PRODID:-//ChamberMaster//Event Calendar 2.0//EN
METHOD:PUBLISH
X-PUBLISHED-TTL:P3D
REFRESH-INTERVAL:P3D
CALSCALE:GREGORIAN
BEGIN:VEVENT
DTSTART:20141211T233000Z
DTEND:20141212T013000Z
X-MICROSOFT-CDO-ALLDAYEVENT:FALSE
SUMMARY:McCaleb Funeral Home Holiday Mixer
DESCRIPTION:
X-ALT-DESC;FMTTYPE=text/html:
LOCATION:McCaleb Funeral Home 900 W. 4th St.
UID:e.1244.6006
SEQUENCE:3
DTSTAMP:20260424T034007Z
URL:https://business.weslaco.com/events/details/mccaleb-funeral-home-holiday-mixer-12-11-2014-6006
END:VEVENT

END:VCALENDAR
