BEGIN:VCALENDAR
VERSION:2.0
PRODID:-//ChamberMaster//Event Calendar 2.0//EN
METHOD:PUBLISH
X-PUBLISHED-TTL:P3D
REFRESH-INTERVAL:P3D
CALSCALE:GREGORIAN
BEGIN:VEVENT
DTSTART:20180727T140000Z
DTEND:20180727T150000Z
X-MICROSOFT-CDO-ALLDAYEVENT:FALSE
SUMMARY:McDonald's Ribbon Cutting
DESCRIPTION:Celebrating the brand new McDonald's!
X-ALT-DESC;FMTTYPE=text/html:Celebrating the brand new McDonald&#39\;s!
LOCATION:3318 E. Business 83 Weslaco\, TX
UID:e.1244.16946
SEQUENCE:3
DTSTAMP:20260421T041454Z
URL:https://business.weslaco.com/events/details/mcdonald-s-ribbon-cutting-16946
END:VEVENT

END:VCALENDAR
