BEGIN:VCALENDAR
VERSION:2.0
PRODID:-//ChamberMaster//Event Calendar 2.0//EN
METHOD:PUBLISH
X-PUBLISHED-TTL:P3D
REFRESH-INTERVAL:P3D
CALSCALE:GREGORIAN
BEGIN:VEVENT
DTSTART:20170810T223000Z
DTEND:20170811T013000Z
X-MICROSOFT-CDO-ALLDAYEVENT:FALSE
SUMMARY:Medical Mix and Mingle
DESCRIPTION:Mix and Mingle hosted by:\n\n	Fire EMS\n	Kindred Hospice\n	Legend Transitional Care Center\n	Mobile X-Ray on Demand\n	Texas Prosthetic Center/Texas Bionics\, Inc.\n	Weslaco Regional Rehabilitation Hospital
X-ALT-DESC;FMTTYPE=text/html:Mix and Mingle hosted by:\n<ul>\n	<li>Fire EMS</li>\n	<li>Kindred Hospice</li>\n	<li>Legend Transitional Care Center</li>\n	<li>Mobile X-Ray on Demand</li>\n	<li>Texas Prosthetic Center/Texas Bionics\, Inc.</li>\n	<li>Weslaco Regional Rehabilitation Hospital</li>\n</ul>\n
LOCATION:The Orchard Lounge McAllen\, TX
UID:e.1244.14387
SEQUENCE:3
DTSTAMP:20260421T220340Z
URL:https://business.weslaco.com/events/details/medical-mix-and-mingle-14387
END:VEVENT

END:VCALENDAR
