BEGIN:VCALENDAR
VERSION:2.0
PRODID:-//ChamberMaster//Event Calendar 2.0//EN
METHOD:PUBLISH
X-PUBLISHED-TTL:P3D
REFRESH-INTERVAL:P3D
CALSCALE:GREGORIAN
BEGIN:VEVENT
DTSTART:20221026T150000Z
DTEND:20221026T170000Z
X-MICROSOFT-CDO-ALLDAYEVENT:FALSE
SUMMARY:Medicare 101
DESCRIPTION:We will be holding an event to educate the community on Medicare. If you have any questions about Medicare or health insurance please come by and we will gladly answer them for you.
X-ALT-DESC;FMTTYPE=text/html:We will be holding an event to educate the community on Medicare. If you have any questions about Medicare or health insurance please come by and we will gladly answer them for you.&nbsp\;
LOCATION:411 N Texas Blvd Weslaco\, Texas 78596
UID:e.1244.21757
SEQUENCE:3
DTSTAMP:20260421T085134Z
URL:https://business.weslaco.com/events/details/medicare-101-10-15-2022-21757
END:VEVENT

END:VCALENDAR
