BEGIN:VCALENDAR
VERSION:2.0
PRODID:-//ChamberMaster//Event Calendar 2.0//EN
METHOD:PUBLISH
X-PUBLISHED-TTL:P3D
REFRESH-INTERVAL:P3D
CALSCALE:GREGORIAN
BEGIN:VEVENT
DTSTART:20221119T160000Z
DTEND:20221119T180000Z
X-MICROSOFT-CDO-ALLDAYEVENT:FALSE
SUMMARY:Medicare 101
DESCRIPTION:We will be holding an event to educate the community on Medicare. If you have any questions about Medicare or health insurance please come by and we will gladly answer them for you.
X-ALT-DESC;FMTTYPE=text/html:We will be holding an event to educate the community on Medicare. If you have any questions about Medicare or health insurance please come by and we will gladly answer them for you.&nbsp\;
LOCATION:411 N Texas Blvd Weslaco\, Texas 78596
UID:e.1244.21758
SEQUENCE:3
DTSTAMP:20260421T071312Z
URL:https://business.weslaco.com/events/details/medicare-101-11-19-2022-21758
END:VEVENT

END:VCALENDAR
