BEGIN:VCALENDAR
VERSION:2.0
PRODID:-//ChamberMaster//Event Calendar 2.0//EN
METHOD:PUBLISH
X-PUBLISHED-TTL:P3D
REFRESH-INTERVAL:P3D
CALSCALE:GREGORIAN
BEGIN:VEVENT
DTSTART:20150124T160000Z
DTEND:20150124T170000Z
X-MICROSOFT-CDO-ALLDAYEVENT:FALSE
SUMMARY:Medicinal Plants of Peru - Natures Pharmacy
DESCRIPTION:Becky Reyes Medicinal Plants of Peru - Natures pharmacy January 24\,2015 10:00 am Becky Reyes works as an environmental educator at the World Birding center and studied at UTPA. Becky will visit the Valley Nature center on January 24\,2015 at 10:00 to speak to us about Natures pharmacy.
X-ALT-DESC;FMTTYPE=text/html:Becky Reyes Medicinal Plants of Peru - Natures pharmacy January 24\,2015 10:00&nbsp\;am Becky Reyes works as an environmental educator at the World Birding center and studied at UTPA. Becky will visit the Valley Nature center on January 24\,2015 at 10:00 to speak to us about Natures pharmacy.
LOCATION:Valley Nature Center 301 South Border Ave. Weslaco\, Texas 78596
UID:e.1244.6019
SEQUENCE:3
DTSTAMP:20260424T003002Z
URL:https://business.weslaco.com/events/details/medicinal-plants-of-peru-natures-pharmacy-01-24-2015-6019
END:VEVENT

END:VCALENDAR
