BEGIN:VCALENDAR
VERSION:2.0
PRODID:-//ChamberMaster//Event Calendar 2.0//EN
METHOD:PUBLISH
X-PUBLISHED-TTL:P3D
REFRESH-INTERVAL:P3D
CALSCALE:GREGORIAN
BEGIN:VEVENT
DTSTART:20200130T230000Z
DTEND:20200131T010000Z
X-MICROSOFT-CDO-ALLDAYEVENT:FALSE
SUMMARY:Mediterraneo Event Center Ribbon Cutting
DESCRIPTION:
X-ALT-DESC;FMTTYPE=text/html:
LOCATION:1320 N .Dolores Huerta Ave. Weslaco\, TX
UID:e.1244.19301
SEQUENCE:3
DTSTAMP:20260419T215306Z
URL:https://business.weslaco.com/events/details/mediterraneo-event-center-ribbon-cutting-19301
END:VEVENT

END:VCALENDAR
