BEGIN:VCALENDAR
VERSION:2.0
PRODID:-//ChamberMaster//Event Calendar 2.0//EN
METHOD:PUBLISH
X-PUBLISHED-TTL:P3D
REFRESH-INTERVAL:P3D
CALSCALE:GREGORIAN
BEGIN:VEVENT
DTSTART:20191121T150000Z
DTEND:20191121T180000Z
X-MICROSOFT-CDO-ALLDAYEVENT:FALSE
SUMMARY:Meet & Greet Event: Davis-Bacon Act feat. the Dept. of Labor
DESCRIPTION:The Davis-Bacon and Related Acts\, apply to contractors and subcontractors performing on federally funded or assisted contracts in excess of $2\,000 for the construction\, alteration\, or repair (including painting and decorating) of public buildings or public works. The training will be an introduction to DBA compliance. \n\n\n\nLearn about the Davis-Bacon Compliance principles. Other topics:\n\nApplicability of DB\n\nHow to Comply\n\nWage Determinations\n\nFringe Benefits\n\nEmployee Classification\n\nAdditional Classifications\n\nPrevailing Wages\n\nLaborers-Mechanics\n\nSite of Work\n\nInvestigative Procedures
X-ALT-DESC;FMTTYPE=text/html:<p>The Davis-Bacon and Related Acts\, apply to contractors and subcontractors performing on federally funded or assisted contracts in excess of $2\,000 for the construction\, alteration\, or repair (including painting and decorating) of public buildings or public works. The training will be an introduction to DBA compliance.&nbsp\;<br />\n<br />\nLearn about the Davis-Bacon Compliance principles. Other topics:</p>\n\n<p>Applicability of DB<br />\nHow to Comply<br />\nWage Determinations<br />\nFringe Benefits<br />\nEmployee Classification<br />\nAdditional Classifications<br />\nPrevailing Wages<br />\nLaborers-Mechanics<br />\nSite of Work<br />\nInvestigative Procedures</p>\n
LOCATION:Business Visitor & Event Center 275 S. Kansas Weslaco\, TX
UID:e.1244.18826
SEQUENCE:3
DTSTAMP:20260420T013811Z
URL:https://business.weslaco.com/events/details/meet-greet-event-davis-bacon-act-feat-the-dept-of-labor-18826
END:VEVENT

END:VCALENDAR
