BEGIN:VCALENDAR
VERSION:2.0
PRODID:-//ChamberMaster//Event Calendar 2.0//EN
METHOD:PUBLISH
X-PUBLISHED-TTL:P3D
REFRESH-INTERVAL:P3D
CALSCALE:GREGORIAN
BEGIN:VEVENT
DTSTART:20161217T190000Z
DTEND:20161217T200000Z
X-MICROSOFT-CDO-ALLDAYEVENT:FALSE
SUMMARY:Meet Local Author Rebecca Luna
DESCRIPTION:Author Rebecca Luna will visit the Mayor Joe V. Sanchez Public Library on Saturday\, December 17\, 2016 at 1 PM. Join us in the Library Meeting Room to hear the Local Author read from her new book and sign copies for sale.
X-ALT-DESC;FMTTYPE=text/html:Author Rebecca Luna will visit the Mayor Joe V. Sanchez Public Library on Saturday\, December 17\, 2016 at 1 PM. Join us in the Library Meeting Room to hear the Local Author read from her new book and sign copies for sale.
LOCATION:Mayor Joe V. Sanchez Public Library 525 S. Kansas Ave. Weslaco\, TX 78596
UID:e.1244.11494
SEQUENCE:3
DTSTAMP:20260422T115141Z
URL:https://business.weslaco.com/events/details/meet-local-author-rebecca-luna-11494
END:VEVENT

END:VCALENDAR
