BEGIN:VCALENDAR
VERSION:2.0
PRODID:-//ChamberMaster//Event Calendar 2.0//EN
METHOD:PUBLISH
X-PUBLISHED-TTL:P3D
REFRESH-INTERVAL:P3D
CALSCALE:GREGORIAN
BEGIN:VEVENT
DTSTART:20220917T150000Z
DTEND:20220917T160000Z
X-MICROSOFT-CDO-ALLDAYEVENT:FALSE
SUMMARY:Meet the Author: Rosie Bumgardner
DESCRIPTION:Come and meet author Rosie Bumgardner\, a Weslaco native. Her daughter inspired her to write this book\, Five Birdies. Five Birdies is our featured book of our third StoryWalk Trail taking place this month. This is a free event\, come on by!
X-ALT-DESC;FMTTYPE=text/html:Come and meet author Rosie Bumgardner\, a Weslaco native. Her daughter inspired her to write this book\, Five Birdies. Five Birdies is our featured book of our third StoryWalk Trail taking place this month. This is a free event\, come on by!
LOCATION:Frontera Audubon 1101 S Texas Blvd Weslaco\, Tx
UID:e.1244.21769
SEQUENCE:3
DTSTAMP:20260421T090647Z
URL:https://business.weslaco.com/events/details/meet-the-author-rosie-bumgardner-21769
END:VEVENT

END:VCALENDAR
