BEGIN:VCALENDAR
VERSION:2.0
PRODID:-//ChamberMaster//Event Calendar 2.0//EN
METHOD:PUBLISH
X-PUBLISHED-TTL:P3D
REFRESH-INTERVAL:P3D
CALSCALE:GREGORIAN
BEGIN:VEVENT
DTSTART:20170420T223000Z
DTEND:20170421T003000Z
X-MICROSOFT-CDO-ALLDAYEVENT:FALSE
SUMMARY:Meet the President After Hours Mixer
DESCRIPTION:Business After Hours Mixer to welcome Doug Croft\, the new President/CEO of the Weslaco Chamber of Commerce.  Sponsored by Texas Regional Bank.
X-ALT-DESC;FMTTYPE=text/html:Business After Hours Mixer to welcome Doug Croft\, the new President/CEO of the Weslaco Chamber of Commerce.&nbsp\; Sponsored by Texas Regional Bank.
LOCATION:Texas Regional Bank 400 N. Westgate Weslaco\, TX
UID:e.1244.11956
SEQUENCE:3
DTSTAMP:20260422T052924Z
URL:https://business.weslaco.com/events/details/meet-the-president-after-hours-mixer-11956
END:VEVENT

END:VCALENDAR
