BEGIN:VCALENDAR
VERSION:2.0
PRODID:-//ChamberMaster//Event Calendar 2.0//EN
METHOD:PUBLISH
X-PUBLISHED-TTL:P3D
REFRESH-INTERVAL:P3D
CALSCALE:GREGORIAN
BEGIN:VEVENT
DTSTART:20190411T223000Z
DTEND:20190412T000000Z
X-MICROSOFT-CDO-ALLDAYEVENT:FALSE
SUMMARY:Meet the President/CEO Welcome Mixer
DESCRIPTION:Join us as we welcome Barbara Jean Garza as the new Weslaco Chamber of Commerce President/CEO.\n\n\n\nSponsored and hosted Plains Capital Bank
X-ALT-DESC;FMTTYPE=text/html:Join us as we welcome Barbara Jean Garza as the new Weslaco Chamber of Commerce President/CEO.<br />\n<br />\nSponsored and hosted Plains Capital Bank&nbsp\;&nbsp\;&nbsp\;&nbsp\;
LOCATION:Plains Capital Bank Weslaco
UID:e.1244.18057
SEQUENCE:3
DTSTAMP:20260420T130506Z
URL:https://business.weslaco.com/events/details/meet-the-president-ceo-welcome-mixer-18057
END:VEVENT

END:VCALENDAR
