BEGIN:VCALENDAR
VERSION:2.0
PRODID:-//ChamberMaster//Event Calendar 2.0//EN
METHOD:PUBLISH
X-PUBLISHED-TTL:P3D
REFRESH-INTERVAL:P3D
CALSCALE:GREGORIAN
BEGIN:VEVENT
DTSTART:20141213T160000Z
DTEND:20141213T170000Z
X-MICROSOFT-CDO-ALLDAYEVENT:FALSE
SUMMARY:"Meet your Neighbors" project - with Seth Patterson
DESCRIPTION:December 13th 10:00am The project is dedicated to reconnecting people with the wildlife on their own doorsteps This is conservation photography at the grass roots level\, asking people to care about their own natural heritage\, where they live and showing them how extraordinary it is in a novel way. Bring the kids!!! They will love the Valley Nature Center. Seth is great with kids and questions\, after the talk\, let the kids explore the trails. Fun for everyone and a great day outdoors enjoying the wonders of our natural world. Trails are an easy walk\, so no worries. Stop by the native plant nursery and visit with Daniel\, he can talk with you about your plant needs.
X-ALT-DESC;FMTTYPE=text/html:December 13th 10:00am The project is dedicated to reconnecting people with the wildlife on their own doorsteps This is conservation photography at the grass roots level\, asking people to care about their own natural heritage\, where they live and showing them how extraordinary it is in a novel way. Bring the kids!!! They will love the Valley Nature Center. Seth is great with kids and questions\, after the talk\, let the kids explore the trails. Fun for everyone and a great day outdoors enjoying the wonders of our natural world. Trails are an easy walk\, so no worries. Stop by the native plant nursery and visit with Daniel\, he can talk with you about your plant needs.
LOCATION:Valley Nature Center 301 South Border Ave. Weslaco\, Tx 78596
UID:e.1244.6007
SEQUENCE:3
DTSTAMP:20260424T034733Z
URL:https://business.weslaco.com/events/details/meet-your-neighbors-project-with-seth-patterson-12-13-2014-6007
END:VEVENT

END:VCALENDAR
