BEGIN:VCALENDAR
VERSION:2.0
PRODID:-//ChamberMaster//Event Calendar 2.0//EN
METHOD:PUBLISH
X-PUBLISHED-TTL:P3D
REFRESH-INTERVAL:P3D
CALSCALE:GREGORIAN
BEGIN:VEVENT
DTSTART:20210919T180000Z
DTEND:20210919T220000Z
X-MICROSOFT-CDO-ALLDAYEVENT:FALSE
SUMMARY:Memory Blvd: Indoor Pop Up Shop
DESCRIPTION:
X-ALT-DESC;FMTTYPE=text/html:
LOCATION:
UID:e.1244.20394
SEQUENCE:3
DTSTAMP:20260422T052550Z
URL:https://business.weslaco.com/events/details/memory-blvd-indoor-pop-up-shop-20394
END:VEVENT

END:VCALENDAR
