BEGIN:VCALENDAR
VERSION:2.0
PRODID:-//ChamberMaster//Event Calendar 2.0//EN
METHOD:PUBLISH
X-PUBLISHED-TTL:P3D
REFRESH-INTERVAL:P3D
CALSCALE:GREGORIAN
BEGIN:VEVENT
DTSTART:20170214T170000Z
DTEND:20170214T180000Z
X-MICROSOFT-CDO-ALLDAYEVENT:FALSE
SUMMARY:Merle Norman Studio-Weslaco RIbbon Cutting
DESCRIPTION:
X-ALT-DESC;FMTTYPE=text/html:
LOCATION:515 E. Expressway 83\, Ste. C Weslaco\, TX
UID:e.1244.11526
SEQUENCE:3
DTSTAMP:20260422T084017Z
URL:https://business.weslaco.com/events/details/merle-norman-studio-weslaco-ribbon-cutting-11526
END:VEVENT

END:VCALENDAR
