BEGIN:VCALENDAR
VERSION:2.0
PRODID:-//ChamberMaster//Event Calendar 2.0//EN
METHOD:PUBLISH
X-PUBLISHED-TTL:P3D
REFRESH-INTERVAL:P3D
CALSCALE:GREGORIAN
BEGIN:VEVENT
DTSTART:20170610T130000Z
DTEND:20170610T190000Z
X-MICROSOFT-CDO-ALLDAYEVENT:FALSE
SUMMARY:Mid Valley Airport Fly-In
DESCRIPTION:It's the first ever Mid Valley Airport Fly-In! Enjoy food vendors\, an airplane exhibit\, car show\, pilot information and door prizes. Celebrating the expanded runway!\n\n\n\nCall Laura at 968-2102 for special discounted hotel rates!
X-ALT-DESC;FMTTYPE=text/html:It&#39\;s the first ever Mid Valley Airport Fly-In! Enjoy food vendors\, an airplane exhibit\, car show\, pilot information and door prizes. Celebrating the expanded runway!<br />\n<br />\nCall Laura at 968-2102 for special discounted hotel rates!
LOCATION:1909 Joe Stephens Ave. Weslaco\, TX
UID:e.1244.12723
SEQUENCE:3
DTSTAMP:20260422T013543Z
URL:https://business.weslaco.com/events/details/mid-valley-airport-fly-in-12723
END:VEVENT

END:VCALENDAR
