BEGIN:VCALENDAR
VERSION:2.0
PRODID:-//ChamberMaster//Event Calendar 2.0//EN
METHOD:PUBLISH
X-PUBLISHED-TTL:P3D
REFRESH-INTERVAL:P3D
CALSCALE:GREGORIAN
BEGIN:VEVENT
DTSTART:20181013T130000Z
DTEND:20181013T190000Z
X-MICROSOFT-CDO-ALLDAYEVENT:FALSE
SUMMARY:Mid Valley Airport Fly-In
DESCRIPTION:It's the second annual Mid Valley Airport Fly-In! Enjoy food vendors\, an airplane exhibit\, pilot information and door prizes. Fun for the whole family!\n\n\n\nTake the kids on a plane ride! Tickets may be purchased at the Mid Valley Airport\, $10 a person presale\, $15 a person onsite.\n\n\n\nCall Laura at 956-968-2102 for special discounted hotel rates!
X-ALT-DESC;FMTTYPE=text/html:It&#39\;s the second annual Mid Valley Airport Fly-In! Enjoy food vendors\, an airplane exhibit\, pilot information and door prizes. Fun for the whole family!<br />\n<br />\nTake the kids on a plane ride! Tickets may be purchased at the Mid Valley Airport\, $10 a person presale\, $15 a person onsite.<br />\n<br />\nCall Laura at 956-968-2102 for special discounted hotel rates!
LOCATION:1909 Joe Stephens Ave. Weslaco\, TX
UID:e.1244.16980
SEQUENCE:3
DTSTAMP:20260420T231237Z
URL:https://business.weslaco.com/events/details/mid-valley-airport-fly-in-16980
END:VEVENT

END:VCALENDAR
