BEGIN:VCALENDAR
VERSION:2.0
PRODID:-//ChamberMaster//Event Calendar 2.0//EN
METHOD:PUBLISH
X-PUBLISHED-TTL:P3D
REFRESH-INTERVAL:P3D
CALSCALE:GREGORIAN
BEGIN:VEVENT
DTSTART:20161119T010000Z
DTEND:20161119T040000Z
X-MICROSOFT-CDO-ALLDAYEVENT:FALSE
SUMMARY:Mid Valley Civic Theater Presents Lettice and Lovage
DESCRIPTION:An eccentric tour guide whose wild theatrics incurs the dismay of an uptight administrator\, even as the two become the best of friends\, in a comedy you won't want to miss!
X-ALT-DESC;FMTTYPE=text/html:An eccentric tour guide whose wild theatrics incurs the dismay of an uptight administrator\, even as the two become the best of friends\, in a comedy you won&#39\;t want to miss!
LOCATION:Tower Theater of Weslaco 120 S. Kansas
UID:e.1244.11394
SEQUENCE:3
DTSTAMP:20260422T134310Z
URL:https://business.weslaco.com/events/details/mid-valley-civic-theater-presents-lettice-and-lovage-11394
END:VEVENT

END:VCALENDAR
