BEGIN:VCALENDAR
VERSION:2.0
PRODID:-//ChamberMaster//Event Calendar 2.0//EN
METHOD:PUBLISH
X-PUBLISHED-TTL:P3D
REFRESH-INTERVAL:P3D
CALSCALE:GREGORIAN
BEGIN:VEVENT
DTSTART:20161119T210000Z
DTEND:20161119T230000Z
X-MICROSOFT-CDO-ALLDAYEVENT:FALSE
SUMMARY:Mid Valley Civic Theater Presents Lettice and Lovage
DESCRIPTION:An eccentric tour guide whose wild theatrics incurs the dismay of an uptight administrator\, even as the two become the best of friends\, in a comedy you won't want to miss!
X-ALT-DESC;FMTTYPE=text/html:An eccentric tour guide whose wild theatrics incurs the dismay of an uptight administrator\, even as the two become the best of friends\, in a comedy you won&#39\;t want to miss!
LOCATION:Tower Theater of Weslaco 120 S. Kansas
UID:e.1244.11396
SEQUENCE:3
DTSTAMP:20260422T151533Z
URL:https://business.weslaco.com/events/details/mid-valley-civic-theater-presents-lettice-and-lovage-11396
END:VEVENT

END:VCALENDAR
