BEGIN:VCALENDAR
VERSION:2.0
PRODID:-//ChamberMaster//Event Calendar 2.0//EN
METHOD:PUBLISH
X-PUBLISHED-TTL:P3D
REFRESH-INTERVAL:P3D
CALSCALE:GREGORIAN
BEGIN:VEVENT
DTSTART:20160103T210000Z
DTEND:20160103T230000Z
X-MICROSOFT-CDO-ALLDAYEVENT:FALSE
SUMMARY:Mid Valley Civic Theatre presents Barefoot in the Park
DESCRIPTION:Mid Valley Civic Theatre presents Barefoot in the Park\, a comedy about marriage by the award-winning Neil Simon.
X-ALT-DESC;FMTTYPE=text/html:Mid Valley Civic Theatre presents Barefoot in the Park\, a comedy about marriage by the award-winning Neil Simon.
LOCATION:Tower Theatre of Weslaco 120 S. Kansas
UID:e.1244.9051
SEQUENCE:3
DTSTAMP:20260423T054243Z
URL:https://business.weslaco.com/events/details/mid-valley-civic-theatre-presents-barefoot-in-the-park-01-03-2016-9051
END:VEVENT

END:VCALENDAR
