BEGIN:VCALENDAR
VERSION:2.0
PRODID:-//ChamberMaster//Event Calendar 2.0//EN
METHOD:PUBLISH
X-PUBLISHED-TTL:P3D
REFRESH-INTERVAL:P3D
CALSCALE:GREGORIAN
BEGIN:VEVENT
DTSTART:20160625T000000Z
DTEND:20160625T020000Z
X-MICROSOFT-CDO-ALLDAYEVENT:FALSE
SUMMARY:Mid Valley Civic Theatre presents Once Upon a Fairy Tale
DESCRIPTION:A fairy tale with Trolls by Christopher Burruto
X-ALT-DESC;FMTTYPE=text/html:A fairy tale with Trolls by Christopher Burruto
LOCATION:Tower Theatre of Weslaco 120 S. Kansas
UID:e.1244.10970
SEQUENCE:3
DTSTAMP:20260422T215540Z
URL:https://business.weslaco.com/events/details/mid-valley-civic-theatre-presents-once-upon-a-fairy-tale-06-24-2016-10970
END:VEVENT

END:VCALENDAR
