BEGIN:VCALENDAR
VERSION:2.0
PRODID:-//ChamberMaster//Event Calendar 2.0//EN
METHOD:PUBLISH
X-PUBLISHED-TTL:P3D
REFRESH-INTERVAL:P3D
CALSCALE:GREGORIAN
BEGIN:VEVENT
DTSTART:20150627T000000Z
DTEND:20150627T020000Z
X-MICROSOFT-CDO-ALLDAYEVENT:FALSE
SUMMARY:Mid Valley Civic Theatre presents Reader's Theater
DESCRIPTION:Fun stories told by talented kids!
X-ALT-DESC;FMTTYPE=text/html:Fun stories told by talented kids!
LOCATION:Tower Theatre of Weslaco 120 S. Kansas
UID:e.1244.6682
SEQUENCE:3
DTSTAMP:20260423T162404Z
URL:https://business.weslaco.com/events/details/mid-valley-civic-theatre-presents-reader-s-theater-06-26-2015-6682
END:VEVENT

END:VCALENDAR
