BEGIN:VCALENDAR
VERSION:2.0
PRODID:-//ChamberMaster//Event Calendar 2.0//EN
METHOD:PUBLISH
X-PUBLISHED-TTL:P3D
REFRESH-INTERVAL:P3D
CALSCALE:GREGORIAN
BEGIN:VEVENT
DTSTART:20160618T200000Z
DTEND:20160618T220000Z
X-MICROSOFT-CDO-ALLDAYEVENT:FALSE
SUMMARY:Mid Valley Civic Theatre presents the Complete Works of William Shakespeare (abridged)
DESCRIPTION:The Mid Valley Civic Theatre presents the Complete Works of William Shakespeare (abridged)\, a comedy by Adam Long\, Daniel Singer & Jess Winfield.  Featured are all 37 of Shakespeare's plays\, meant to be performed in 97 minutes\, by three actors.  Fast paced\, witty and physical\, it's full of laughter for Shakespeare lovers and haters alike.
X-ALT-DESC;FMTTYPE=text/html:The Mid Valley Civic Theatre presents the Complete Works of William Shakespeare (abridged)\, a comedy by Adam Long\, Daniel Singer &amp\; Jess Winfield. &nbsp\;Featured are all 37 of Shakespeare&#39\;s plays\, meant to be performed in 97 minutes\, by three actors. &nbsp\;Fast paced\, witty and physical\, it&#39\;s full of laughter for Shakespeare lovers and haters alike.&nbsp\;
LOCATION:Tower Theatre of Weslaco 120 S. Kansas
UID:e.1244.10968
SEQUENCE:3
DTSTAMP:20260422T215655Z
URL:https://business.weslaco.com/events/details/mid-valley-civic-theatre-presents-the-complete-works-of-william-shakespeare-abridged-06-18-2016-10968
END:VEVENT

END:VCALENDAR
